BEGIN:VCALENDAR
VERSION:2.0
PRODID:-//Programa de Pós-Graduação em Desenvolvimento Regional Sustentável - ECPv5.1.6//NONSGML v1.0//EN
CALSCALE:GREGORIAN
METHOD:PUBLISH
X-WR-CALNAME:Programa de Pós-Graduação em Desenvolvimento Regional Sustentável
X-ORIGINAL-URL:https://proder.ufca.edu.br
X-WR-CALDESC:Eventos para Programa de Pós-Graduação em Desenvolvimento Regional Sustentável
BEGIN:VTIMEZONE
TZID:America/Fortaleza
BEGIN:STANDARD
TZOFFSETFROM:-0300
TZOFFSETTO:-0300
TZNAME:-03
DTSTART:20210101T000000
END:STANDARD
END:VTIMEZONE
BEGIN:VEVENT
DTSTART;TZID=America/Fortaleza:20210915T143000
DTEND;TZID=America/Fortaleza:20210915T170000
DTSTAMP:20260423T202537
CREATED:20210908T230319Z
LAST-MODIFIED:20210908T230522Z
UID:2917-1631716200-1631725200@proder.ufca.edu.br
SUMMARY:Seminário “Bem viver pelas mãos das mulheres negras”
DESCRIPTION:15 de setembro\, quarta-feira\, às 14h30\n\nO Seminário “Bem viver pelas mãos das mulheres negras” é parte do ciclo de debates da disciplina Seminário Temáticos do Programa de Pós Graduação em Desenvolvimento Regional Sustentável (PRODER) da Universidade Federal do Cariri (UFCA)\, em parceria com o Observatório do Bem Viver.\nConversaremos com Luíza Cavalcante\, gestora do Sítio Ágatha – Espaço matriarcal de vivências e trocas agroecológicas e antirracistas em Tracunhaém – PE e Valéria Carvalho\, educadora popular\, membro do Grupo de Valorização Negra do Cariri (Grunec) e moradora do Terreiro Encantado das Pretas\, que compartilharão conosco seus saberes sobre o Bem Viver como prática em seus territórios.\nNágila Batisa apresentará sua pesquisa “Tecnologias sociais e desenvolvimento local: mulheres Quilombolas e seus quintais produtivos” e Cristina Lopes fará a mediação. Ambas são mestrandas do Programa de Pós Graduação em Desenvolvimento Regional Sustentável (PRODER) da Universidade Federal do Cariri (UFCA).\nA atividade será transmitida ao vivo pelo Canal do YouTube do Observatório do Bem Viver no dia 15 de setembro\, quarta-feira\, às 14h30. \nLink para evento:  \nhttps://youtu.be/0hhmZ6ghg-o \n 
URL:https://proder.ufca.edu.br/event/seminario-bem-viver-pelas-maos-das-mulheres-negras/
END:VEVENT
END:VCALENDAR