BEGIN:VCALENDAR
VERSION:2.0
PRODID:-//Programa de Pós-Graduação em Desenvolvimento Regional Sustentável - ECPv5.1.6//NONSGML v1.0//EN
CALSCALE:GREGORIAN
METHOD:PUBLISH
X-WR-CALNAME:Programa de Pós-Graduação em Desenvolvimento Regional Sustentável
X-ORIGINAL-URL:https://proder.ufca.edu.br
X-WR-CALDESC:Eventos para Programa de Pós-Graduação em Desenvolvimento Regional Sustentável
BEGIN:VTIMEZONE
TZID:America/Fortaleza
BEGIN:STANDARD
TZOFFSETFROM:-0300
TZOFFSETTO:-0300
TZNAME:-03
DTSTART:20210101T000000
END:STANDARD
END:VTIMEZONE
BEGIN:VEVENT
DTSTART;TZID=America/Fortaleza:20210811T140000
DTEND;TZID=America/Fortaleza:20210811T170000
DTSTAMP:20260423T202536
CREATED:20210810T184523Z
LAST-MODIFIED:20210810T185121Z
UID:2898-1628690400-1628701200@proder.ufca.edu.br
SUMMARY:Seminário Patrimônio Cultural: desafios e perspectivas para a sustentabilidade
DESCRIPTION:11 DE AGOSTO DE 2021\n\nO Programa de Pós-Graduação em Desenvolvimento Regional Sustentável (PRODER)\, da Universidade Federal do Cariri (UFCA)\, realizará um circuito de mesas redondas\, a partir da disciplina de Seminários Temáticos I\, e abordará temas que dialogam com a linha de pesquisa Saúde\, Estado e Sociedade\, a iniciar-se nesta quarta-feira\, dia 11 de agosto de 2021\, a partir das 14h\, com transmissão ao vivo pelo canal do Observatório do Bem Viver\, na plataforma do Youtube. As atividades contarão com a participação de pesquisadoras e pesquisadores convidados e discentes do PRODER\, acontecendo em parceria com os grupos de pesquisa Observatório do Bem Viver (URCA | UFCA) e o Núcleo de Estudos Integrados em Geomorfologia\, Geodiversidade e Patrimônio (NIGEP | URCA). A atividade tem a coordenação das professoras Laudeci Martins\, Victória Régia Arrais e prof. Marcelo Moura Fé. Acompanhe abaixo as convidadas e convidados do nosso primeiro encontro. Divulgue e participe!\nTransmissão:\nhttps://youtube.com/channel/UCM0B9W4ewSQJ0onSDBnOb9w\n 
URL:https://proder.ufca.edu.br/event/seminario-patrimonio-cultural-desafios-e-perspectivas-para-a-sustentabilidade/
END:VEVENT
END:VCALENDAR